BEGIN:VCALENDAR
VERSION:2.0
PRODID:-//Library Market//iCal Export//EN
BEGIN:VEVENT
SUMMARY:Wonderland Spa
UID:21490
DTSTAMP:20260421T181100Z
DTSTART:20260730T190000Z
DTEND:20260730T203000Z
LOCATION:East Regional Library, 160 West Campus Dr, Destrehan, LA 70047, U
 nited States
ROOM: Large Meeting Room
DESCRIPTION: Wonder away at the spa and create your own spa kit! Learn to
  relax like at our Alice in Wonderland themed spa. 
URL:https://www.myscpl.org/event/childrens-place-holder-wonderland-spa-214
 90
END:VEVENT
END:VCALENDAR
