BEGIN:VCALENDAR
VERSION:2.0
PRODID:-//Library Market//iCal Export//EN
BEGIN:VEVENT
SUMMARY:Egg Drop Challenge
UID:21491
DTSTAMP:20260421T172300Z
DTSTART:20260604T160000Z
DTEND:20260604T173000Z
LOCATION:East Regional Library, 160 West Campus Dr, Destrehan, LA 70047, U
 nited States
ROOM: Large Meeting Room
DESCRIPTION:Put your engineering skills to the test! Build a protective co
 ntainer for a raw egg, and we&#039;ll test which egg can survive the fall.
URL:https://www.myscpl.org/event/childrens-place-holder-egg-drop-21491
END:VEVENT
END:VCALENDAR
