BEGIN:VCALENDAR
VERSION:2.0
PRODID:-//Library Market//iCal Export//EN
BEGIN:VEVENT
SUMMARY:Sand Slime
UID:21492
DTSTAMP:20260421T172300Z
DTSTART:20260611T193000Z
DTEND:20260611T203000Z
LOCATION:East Regional Library, 160 West Campus Dr, Destrehan, LA 70047, U
 nited States
ROOM: Children&#039;s Activity Room
DESCRIPTION:Celebrate summer by making your own sand slime!
URL:https://www.myscpl.org/event/childrens-place-holder-sand-slime-21492
END:VEVENT
END:VCALENDAR
