BEGIN:VCALENDAR
VERSION:2.0
PRODID:-//Library Market//iCal Export//EN
BEGIN:VEVENT
SUMMARY:Escape the Giant&#039;s Castle
UID:21494
DTSTAMP:20260421T130900Z
DTSTART:20260625T190000Z
DTEND:20260625T210000Z
LOCATION:East Regional Library, 160 West Campus Dr, Destrehan, LA 70047, U
 nited States
ROOM: Large Meeting Room
DESCRIPTION:Help Jack escape the giant&#039;s castle by solving puzzles an
 d following clues to the golden egg! 
URL:https://www.myscpl.org/event/childrens-place-holder-kids-escape-room-w
 orking-title-21494
END:VEVENT
END:VCALENDAR
