BEGIN:VCALENDAR
VERSION:2.0
PRODID:-//Library Market//iCal Export//EN
BEGIN:VEVENT
SUMMARY:Tiny Terrarium Takeover
UID:21507
DTSTAMP:20260421T144300Z
DTSTART:20260616T190000Z
DTEND:20260616T203000Z
LOCATION:East Regional Library, 160 West Campus Dr, Destrehan, LA 70047, U
 nited States
ROOM: Teen Room
DESCRIPTION:Create your own mini world in a jar! Build and decorate a terr
 arium to take home and brighten up your room.
URL:https://www.myscpl.org/event/teen-placeholder-21507
END:VEVENT
END:VCALENDAR
