BEGIN:VCALENDAR
VERSION:2.0
PRODID:-//Library Market//iCal Export//EN
BEGIN:VEVENT
SUMMARY:Grow Your Own Pizza
UID:21508
DTSTAMP:20260421T160500Z
DTSTART:20260623T190000Z
DTEND:20260623T203000Z
LOCATION:East Regional Library, 160 West Campus Dr, Destrehan, LA 70047, U
 nited States
ROOM: Children&#039;s Activity Room
DESCRIPTION:Peppers, tomatoes, basil, and oregano—perfect pizza toppings
  you can grow yourself! Plant your own mini pizza garden and learn how to 
 grow ingredients at home.
URL:https://www.myscpl.org/event/teen-placeholder-21508
END:VEVENT
END:VCALENDAR
