BEGIN:VCALENDAR
VERSION:2.0
PRODID:-//Library Market//iCal Export//EN
BEGIN:VEVENT
SUMMARY:Video Game Truck
UID:21509
DTSTAMP:20260421T160500Z
DTSTART:20260707T220000Z
DTEND:20260708T000000Z
LOCATION:East Regional Library, 160 West Campus Dr, Destrehan, LA 70047, U
 nited States
ROOM: Outside
DESCRIPTION:Drop in for a turn in the gaming truck! Play your favorite fam
 ily friendly multi-player video games in a luxury, limo-style, air-conditi
 oned theater on wheels with NOLA Games on Wheels!
URL:https://www.myscpl.org/event/teen-placeholder-21509
END:VEVENT
END:VCALENDAR
