BEGIN:VCALENDAR
VERSION:2.0
PRODID:-//Library Market//iCal Export//EN
BEGIN:VEVENT
SUMMARY:Bath Salts and Gel Candles
UID:21510
DTSTAMP:20260421T160500Z
DTSTART:20260714T190000Z
DTEND:20260714T203000Z
LOCATION:East Regional Library, 160 West Campus Dr, Destrehan, LA 70047, U
 nited States
ROOM: Children&#039;s Activity Room
DESCRIPTION:Mix up your own herbal bath salts and create gel candles that 
 look as great as they smell. Pick your favorite scents and botanicals, get
  creative, and leave with spa-worthy goodies you made yourself!
URL:https://www.myscpl.org/event/teen-placeholder-21510
END:VEVENT
END:VCALENDAR
