BEGIN:VCALENDAR
VERSION:2.0
PRODID:-//Library Market//iCal Export//EN
BEGIN:VEVENT
SUMMARY:Plant Dream Homes
UID:21511
DTSTAMP:20260421T160500Z
DTSTART:20260721T190000Z
DTEND:20260721T203000Z
LOCATION:East Regional Library, 160 West Campus Dr, Destrehan, LA 70047, U
 nited States
ROOM: Children&#039;s Activity Room
DESCRIPTION:Paint your plant’s dream home! Decorate a flower pot that yo
 ur plants will love.
URL:https://www.myscpl.org/event/teen-placeholder-21511
END:VEVENT
END:VCALENDAR
