BEGIN:VCALENDAR
VERSION:2.0
PRODID:-//Library Market//iCal Export//EN
BEGIN:VEVENT
SUMMARY:Fake it Till You Make it Plants
UID:21512
DTSTAMP:20260421T160500Z
DTSTART:20260728T190000Z
DTEND:20260728T203000Z
LOCATION:East Regional Library, 160 West Campus Dr, Destrehan, LA 70047, U
 nited States
ROOM: Children&#039;s Activity Room
DESCRIPTION:Create a plant that never needs watering! Design your own deco
 rative plant using colorful beads.
URL:https://www.myscpl.org/event/teen-placeholder-21512
END:VEVENT
END:VCALENDAR
