BEGIN:VCALENDAR
VERSION:2.0
PRODID:-//Library Market//iCal Export//EN
BEGIN:VEVENT
SUMMARY:Johnette Downing
UID:21513
DTSTAMP:20260421T130900Z
DTSTART:20260617T190000Z
DTEND:20260617T200000Z
LOCATION:105 Lakewood Dr, Luling, LA 70070, United States
ROOM: Meeting Room (West)
DESCRIPTION:Plant a Seed, Read, AND Sing!Twenty years ago, musician and au
 thor Johnette Downing planted the seed of an idea for a singable book abou
 t seven foods for Louisiana children. That book, Today is Monday in Louisi
 ana, blossomed into a fan-favorite read and sing along story. This summer,
  Johnette sings this and several of her beloved singable stories, such asÂ
  Chef Creole, Who Got the Baby in the King Cake, How to Dress a Poâ€™ Boy,
  and Down in Louisiana during &quot;Plant a Seed, Read AND Sing,&quot; her
  delicious, giggly and wiggly concert for children.Library meeting rooms h
 ave limited space, so come early for your best chance to get a seat.Â 
URL:https://www.myscpl.org/event/johnette-downing-placeholder-21513
END:VEVENT
END:VCALENDAR
