BEGIN:VCALENDAR
VERSION:2.0
PRODID:-//Library Market//iCal Export//EN
BEGIN:VEVENT
SUMMARY:Little Sprouts Art Studio
UID:21558
DTSTAMP:20260421T144300Z
DTSTART:20260616T190000Z
DTEND:20260616T203000Z
LOCATION:590 Apple St, Norco, LA 70079, United States
ROOM: Meeting Room
DESCRIPTION:Explore garden-themed colors and textures through simple art e
 xperiences!
URL:https://www.myscpl.org/event/childrens-placeholder-21558
END:VEVENT
END:VCALENDAR
