BEGIN:VCALENDAR
VERSION:2.0
PRODID:-//Library Market//iCal Export//EN
BEGIN:VEVENT
SUMMARY:Whisked Away Dragonflies
UID:21559
DTSTAMP:20260421T172300Z
DTSTART:20260630T190000Z
DTEND:20260630T203000Z
LOCATION:590 Apple St, Norco, LA 70079, United States
ROOM: Meeting Room
DESCRIPTION:Transform a simple kitchen whisk into a dazzling dragonfly usi
 ng colorful pony beads!
URL:https://www.myscpl.org/event/childrens-placeholder-21559
END:VEVENT
END:VCALENDAR
