BEGIN:VCALENDAR
VERSION:2.0
PRODID:-//Library Market//iCal Export//EN
BEGIN:VEVENT
SUMMARY:Farm Fresh Bingo
UID:21560
DTSTAMP:20260421T172300Z
DTSTART:20260710T190000Z
DTEND:20260710T203000Z
LOCATION:590 Apple St, Norco, LA 70079, United States
ROOM: Meeting Room
DESCRIPTION:Test your luck with our farm-themed bingo game filled with fru
 its, veggies, and garden favorites! Play for fun prizes while enjoying a l
 ively afternoon of family-friendly competition.
URL:https://www.myscpl.org/event/childrens-placeholder-21560
END:VEVENT
END:VCALENDAR
