BEGIN:VCALENDAR
VERSION:2.0
PRODID:-//Library Market//iCal Export//EN
BEGIN:VEVENT
SUMMARY:Little Sprouts At Play
UID:21561
DTSTAMP:20260424T192300Z
DTSTART:20260724T190000Z
DTEND:20260724T203000Z
LOCATION:590 Apple St, Norco, LA 70079, United States
ROOM: Meeting Room
DESCRIPTION:Dig in and grow with us! Little ones will plant seeds, make a 
 flower craft, and explore a seed-filled sensory bin in this garden-inspire
 d playtime. Perfect for curious babies and toddlers who love to touch, exp
 lore, and create.
URL:https://www.myscpl.org/event/childrens-placeholder-21561
END:VEVENT
END:VCALENDAR
