BEGIN:VCALENDAR
VERSION:2.0
PRODID:-//Library Market//iCal Export//EN
BEGIN:VEVENT
SUMMARY:Getting Started with eBooks
UID:21579
DTSTAMP:20260421T172300Z
DTSTART:20260707T150000Z
DTEND:20260707T160000Z
LOCATION:105 Lakewood Dr, Luling, LA 70070, United States
ROOM: Teen Room
DESCRIPTION:The library offers free eBooks and audiobooks that you can acc
 ess online and enjoy on all kinds of devices. Learn how to use these resou
 rces on your phone, tablet, computer, or e-reader at this 1-hour workshop.
  Follow along with your own library card and device, or sit back and take 
 it all in!
URL:https://www.myscpl.org/event/getting-started-ebooks-21579
END:VEVENT
END:VCALENDAR
