BEGIN:VCALENDAR
VERSION:2.0
PRODID:-//Library Market//iCal Export//EN
BEGIN:VEVENT
SUMMARY:Rocks &amp; Pots
UID:21599
DTSTAMP:20260424T011200Z
DTSTART:20260608T220000Z
DTEND:20260608T230000Z
LOCATION:307 Audubon St, Paradis, LA 70080, United States
ROOM: Meeting Room
DESCRIPTION:Decorate garden rocks and pots to add a personal touch to your
  outdoor space. 
URL:https://www.myscpl.org/event/pressed-flower-rocks-painted-pots-21599
END:VEVENT
END:VCALENDAR
