BEGIN:VCALENDAR
VERSION:2.0
PRODID:-//Library Market//iCal Export//EN
BEGIN:VEVENT
SUMMARY:Upcycled Garden
UID:21600
DTSTAMP:20260424T152600Z
DTSTART:20260629T210000Z
DTEND:20260629T220000Z
LOCATION:307 Audubon St, Paradis, LA 70080, United States
ROOM: Meeting Room
DESCRIPTION:Transform ordinary materials into a beautiful indoor garden di
 splay.  
URL:https://www.myscpl.org/event/q-tip-flowers-cycle-garden-21600
END:VEVENT
END:VCALENDAR
