BEGIN:VCALENDAR
VERSION:2.0
PRODID:-//Library Market//iCal Export//EN
BEGIN:VEVENT
SUMMARY:Edible Garden
UID:21601
DTSTAMP:20260424T181500Z
DTSTART:20260717T160000Z
DTEND:20260717T170000Z
LOCATION:307 Audubon St, Paradis, LA 70080, United States
ROOM: Meeting Room
DESCRIPTION:Use your imagination to design a sweet garden with a variety o
 f treats. Once the fun of creating your garden is done, you may enjoy your
  delicious edible masterpiece.
URL:https://www.myscpl.org/event/edible-garden-21601
END:VEVENT
END:VCALENDAR
