BEGIN:VCALENDAR
VERSION:2.0
PRODID:-//Library Market//iCal Export//EN
BEGIN:VEVENT
SUMMARY:Digging in the Dirt
UID:21603
DTSTAMP:20260424T192300Z
DTSTART:20260720T200000Z
DTEND:20260720T210000Z
LOCATION:307 Audubon St, Paradis, LA 70080, United States
ROOM: Meeting Room
DESCRIPTION:This fun storytime is designed to help your little ones learn,
  imagine, and explore new ideas. After a story, children will take part in
  an exciting sensory activity and dig deep into our nature box, then finis
 h with a tasty hands-on activity. 
URL:https://www.myscpl.org/event/digging-dirt-stem-storytime-21603
END:VEVENT
END:VCALENDAR
