BEGIN:VCALENDAR
VERSION:2.0
PRODID:-//Library Market//iCal Export//EN
BEGIN:VEVENT
SUMMARY:Plant Dream Homes
UID:21627
DTSTAMP:20260424T134900Z
DTSTART:20260625T200000Z
DTEND:20260625T213000Z
LOCATION:307 Audubon St, Paradis, LA 70080, United States
ROOM: Meeting Room
DESCRIPTION:Paint your plant’s dream home! Decorate a flower pot that yo
 ur plants will love.
URL:https://www.myscpl.org/event/thursday-thrills-painted-flower-pots-frie
 nds-21627
END:VEVENT
END:VCALENDAR
