BEGIN:VCALENDAR
VERSION:2.0
PRODID:-//Library Market//iCal Export//EN
BEGIN:VEVENT
SUMMARY:Cha Cha Chia Pet
UID:21632
DTSTAMP:20260424T192300Z
DTSTART:20260723T200000Z
DTEND:20260723T210000Z
LOCATION:307 Audubon St, Paradis, LA 70080, United States
ROOM: Meeting Room
DESCRIPTION:Design your own Chia Pet with air dry clay. Let your imaginati
 on and creativity go wild and grow chia seeds on a design of your own.
URL:https://www.myscpl.org/event/thursday-thrills-diy-chia-pet-21632
END:VEVENT
END:VCALENDAR
