BEGIN:VCALENDAR
VERSION:2.0
PRODID:-//Library Market//iCal Export//EN
BEGIN:VEVENT
SUMMARY:Once Upon a Planet
UID:21633
DTSTAMP:20260424T134900Z
DTSTART:20260622T223000Z
DTEND:20260623T000000Z
LOCATION:
DESCRIPTION:To participate in this virtual program, please pick up your pr
 ogram pack before the day of the program.Your trip to a fairytale land is 
 dashed when you realize that the locals are unaware of eco-care! Can you h
 elp them find a solution to pollution before their land disappears into th
 e sadly ever after?Register each person participating individually so ever
 yone can get a set of clues. A staff member will call to notify you that y
 our bag is ready for pick up at your selected branch.
URL:https://www.myscpl.org/event/once-upon-planet-virtual-escape-room-2163
 3
END:VEVENT
END:VCALENDAR
