BEGIN:VCALENDAR
VERSION:2.0
PRODID:-//Library Market//iCal Export//EN
BEGIN:VEVENT
SUMMARY:Escape the Jungle
UID:21653
DTSTAMP:20260421T172300Z
DTSTART:20260609T190000Z
DTEND:20260609T210000Z
LOCATION:East Regional Library, 160 West Campus Dr, Destrehan, LA 70047, U
 nited States
ROOM: Large Meeting Room
DESCRIPTION:A game for those who seek to find a way to leave their world b
 ehind. See if you have what it takes to beat this Jumanji-themed escape ro
 om. 
URL:https://www.myscpl.org/event/escape-jungle-21653
END:VEVENT
END:VCALENDAR
