BEGIN:VCALENDAR
VERSION:2.0
PRODID:-//Library Market//iCal Export//EN
BEGIN:VEVENT
SUMMARY:Sno-ball Social
UID:21656
DTSTAMP:20260421T184900Z
DTSTART:20260725T230000Z
DTEND:20260726T010000Z
LOCATION:East Regional Library, 160 West Campus Dr, Destrehan, LA 70047, U
 nited States
ROOM: Outside
DESCRIPTION:Savor the last weekend of summer with a tasty sno-ball and fun
  activities!
URL:https://www.myscpl.org/event/sno-ball-social-21656
END:VEVENT
END:VCALENDAR
