BEGIN:VCALENDAR
VERSION:2.0
PRODID:-//Library Market//iCal Export//EN
BEGIN:VEVENT
SUMMARY:Louisiana Philharmonic Orchestra
UID:21725
DTSTAMP:20260422T003900Z
DTSTART:20260715T173000Z
DTEND:20260715T183000Z
LOCATION:East Regional Library, 160 West Campus Dr, Destrehan, LA 70047, U
 nited States
ROOM: Large Meeting Room
DESCRIPTION:Come listen to a duet of strings performed by the Louisiana Ph
 ilharmonic Orchestra!Library meeting rooms have limited space, so come ear
 ly for your best chance to get a seat. 
URL:https://www.myscpl.org/event/louisiana-philharmonic-orchestra-21725
END:VEVENT
END:VCALENDAR
