BEGIN:VCALENDAR
VERSION:2.0
PRODID:-//Library Market//iCal Export//EN
BEGIN:VEVENT
SUMMARY:Louisiana Philharmonic Orchestra
UID:21726
DTSTAMP:20260424T181500Z
DTSTART:20260716T153000Z
DTEND:20260716T163000Z
LOCATION:307 Audubon St, Paradis, LA 70080, United States
ROOM: Meeting Room
DESCRIPTION:Live classical music is coming to us this summer! Musicians 
 from the Louisiana Philharmonic Orchestra will perform a string duet while
  talking about what it’s like being musicians, their instruments, and th
 eir music. Library meeting rooms have limited space, so come early for yo
 ur best chance to get a seat. 
URL:https://www.myscpl.org/event/louisiana-philharmonic-orchestra-21726
END:VEVENT
END:VCALENDAR
