BEGIN:VCALENDAR
VERSION:2.0
PRODID:-//Library Market//iCal Export//EN
BEGIN:VEVENT
SUMMARY:Louisiana Philharmonic Orchestra
UID:21727
DTSTAMP:20260422T020200Z
DTSTART:20260716T173000Z
DTEND:20260716T183000Z
LOCATION:105 Lakewood Dr, Luling, LA 70070, United States
ROOM: Meeting Room (West)
DESCRIPTION:Come listen to a duet of strings performed by the Louisiana Ph
 ilharmonic Orchestra!Library meeting rooms have limited space, so come ear
 ly for your best chance to get a seat. 
URL:https://www.myscpl.org/event/louisiana-philharmonic-orchestra-21727
END:VEVENT
END:VCALENDAR
