BEGIN:VCALENDAR
VERSION:2.0
PRODID:-//Library Market//iCal Export//EN
BEGIN:VEVENT
SUMMARY:Lady Chops
UID:21755
DTSTAMP:20260424T014500Z
DTSTART:20260729T153000Z
DTEND:20260729T163000Z
LOCATION:307 Audubon St, Paradis, LA 70080, United States
ROOM: Meeting Room
DESCRIPTION:Lady Chops is a Louisiana-based percussionist and entertainer 
 known for her high-energy, interactive drumming shows. A former 10-year pe
 rformer in the Off-Broadway hit Stomp, she now tours libraries and festiva
 ls with &quot;Drum Roll Please,&quot; featuring instruments like buckets, 
 body percussion, and Cajun rubboards.Library meeting rooms have limited sp
 ace, so come early for your best chance to get a seat. 
URL:https://www.myscpl.org/event/lady-chops-21755
END:VEVENT
END:VCALENDAR
