BEGIN:VCALENDAR
VERSION:2.0
PRODID:-//Library Market//iCal Export//EN
BEGIN:VEVENT
SUMMARY:Lady Chops
UID:21758
DTSTAMP:20260421T181200Z
DTSTART:20260727T230000Z
DTEND:20260728T000000Z
LOCATION:East Regional Library, 160 West Campus Dr, Destrehan, LA 70047, U
 nited States
ROOM: Large Meeting Room
DESCRIPTION:Lady Chops is a Louisiana-based percussionist and entertainer 
 known for her high-energy, interactive drumming shows. A former 10-year pe
 rformer in the Off-Broadway hit Stomp, she now tours libraries and festiva
 ls with &quot;Drum Roll Please,&quot; featuring instruments like buckets, 
 body percussion, and Cajun rubboards.Library meeting rooms have limited sp
 ace, so come early for your best chance to get a seat. 
URL:https://www.myscpl.org/event/lady-chops-21758
END:VEVENT
END:VCALENDAR
