BEGIN:VCALENDAR
VERSION:2.0
PRODID:-//Library Market//iCal Export//EN
BEGIN:VEVENT
SUMMARY:Sand Slime
UID:21788
DTSTAMP:20260421T172300Z
DTSTART:20260611T230000Z
DTEND:20260612T000000Z
LOCATION:East Regional Library, 160 West Campus Dr, Destrehan, LA 70047, U
 nited States
ROOM: Children&#039;s Activity Room
DESCRIPTION:Celebrate summer by making your own sand slime!
URL:https://www.myscpl.org/event/copy-sand-slime-21788
END:VEVENT
END:VCALENDAR
