BEGIN:VCALENDAR
VERSION:2.0
PRODID:-//Library Market//iCal Export//EN
BEGIN:VEVENT
SUMMARY:Art Lab with Becca Hillburn
UID:21822
DTSTAMP:20260421T184900Z
DTSTART:20260506T230000Z
DTEND:20260507T003000Z
LOCATION:East Regional Library, 160 West Campus Dr, Destrehan, LA 70047, U
 nited States
ROOM: Children&#039;s Activity Room
DESCRIPTION:Advance your art skills in the Art Lab hosted by professional 
 artist Becca Hillburn. This program is designed for older teens and adults
  to further develop their knowledge and love of art. 
URL:https://www.myscpl.org/event/art-lab-becca-hillburn-21822
END:VEVENT
END:VCALENDAR
