BEGIN:VCALENDAR
VERSION:2.0
PRODID:-//Library Market//iCal Export//EN
BEGIN:VEVENT
SUMMARY:How to Grow &amp; Cook with Herbs
UID:21853
DTSTAMP:20260421T144300Z
DTSTART:20260616T150000Z
DTEND:20260616T163000Z
LOCATION:105 Lakewood Dr, Luling, LA 70070, United States
ROOM: Meeting Room (West)
DESCRIPTION:Whether you’re a beginner gardener or a home cook looking to
  add fresh flavor to your meals, join LSU AgCenter agents to learn how to 
 grow and cook with herbs.Stephanie Gravois, Horticulture Extension Agent, 
 will share tips for growing and caring for common herbs, while Annie Lambe
 rt, Assistant Extension Agent in Nutrition and Community Health, will demo
 nstrate simple, healthy ways to use them in everyday cooking.
URL:https://www.myscpl.org/event/lsu-ag-placeholder-21853
END:VEVENT
END:VCALENDAR
