BEGIN:VCALENDAR
VERSION:2.0
PRODID:-//Library Market//iCal Export//EN
BEGIN:VEVENT
SUMMARY:Seed Saving
UID:21854
DTSTAMP:20260421T172200Z
DTSTART:20260610T190000Z
DTEND:20260610T200000Z
LOCATION:105 Lakewood Dr, Luling, LA 70070, United States
ROOM: Meeting Room (West)
DESCRIPTION:Join the River Region Master Gardeners for a family-focused le
 sson on saving seeds. 
URL:https://www.myscpl.org/event/lsu-ag-placeholder-21854
END:VEVENT
END:VCALENDAR
