BEGIN:VCALENDAR
VERSION:2.0
PRODID:-//Library Market//iCal Export//EN
BEGIN:VEVENT
SUMMARY:Laser Tag
UID:21859
DTSTAMP:20260421T172200Z
DTSTART:20260613T193000Z
DTEND:20260613T213000Z
LOCATION:590 Apple St, Norco, LA 70079, United States
ROOM: Throughout the Library
DESCRIPTION:Come play laser tag in the library! NOLA Games on Wheels will 
 set up a laser tag arena inside the library.
URL:https://www.myscpl.org/event/laser-tag-21859
END:VEVENT
END:VCALENDAR
