BEGIN:VCALENDAR
VERSION:2.0
PRODID:-//Library Market//iCal Export//EN
BEGIN:VEVENT
SUMMARY:Laser Tag
UID:21861
DTSTAMP:20260421T172200Z
DTSTART:20260606T223000Z
DTEND:20260607T003000Z
LOCATION:East Regional Library, 160 West Campus Dr, Destrehan, LA 70047, U
 nited States
ROOM: Throughout the Library
DESCRIPTION:Come play laser tag in the library! NOLA Games on Wheels will 
 set up a laser tag arena inside the library.
URL:https://www.myscpl.org/event/laser-tag-21861
END:VEVENT
END:VCALENDAR
