BEGIN:VCALENDAR
VERSION:2.0
PRODID:-//Library Market//iCal Export//EN
BEGIN:VEVENT
SUMMARY:Laser Tag
UID:21863
DTSTAMP:20260424T122900Z
DTSTART:20260620T193000Z
DTEND:20260620T213000Z
LOCATION:307 Audubon St, Paradis, LA 70080, United States
ROOM: Throughout the Library
DESCRIPTION:Come play laser tag in the library! NOLA Games on Wheels will 
 set up a laser tag arena inside the library.
URL:https://www.myscpl.org/event/laser-tag-21863
END:VEVENT
END:VCALENDAR
