BEGIN:VCALENDAR
VERSION:2.0
PRODID:-//Library Market//iCal Export//EN
BEGIN:VEVENT
SUMMARY:Laser Tag
UID:21865
DTSTAMP:20260421T173200Z
DTSTART:20260710T230000Z
DTEND:20260711T010000Z
LOCATION:105 Lakewood Dr, Luling, LA 70070, United States
ROOM: Throughout the Library
DESCRIPTION:Come play laser tag in the library! NOLA Games on Wheels will 
 set up a laser tag arena inside the library.
URL:https://www.myscpl.org/event/laser-tag-21865
END:VEVENT
END:VCALENDAR
