BEGIN:VCALENDAR
VERSION:2.0
PRODID:-//Library Market//iCal Export//EN
BEGIN:VEVENT
SUMMARY:Video Game Truck
UID:21869
DTSTAMP:20260421T172200Z
DTSTART:20260629T190000Z
DTEND:20260629T210000Z
LOCATION:105 Lakewood Dr, Luling, LA 70070, United States
ROOM: Outside
DESCRIPTION:Drop in for a turn in the gaming truck! Play your favorite fam
 ily friendly multi-player video games in a luxury, limo-style, air-conditi
 oned theater on wheels with NOLA Games on Wheels! 
URL:https://www.myscpl.org/event/video-game-truck-21869
END:VEVENT
END:VCALENDAR
