BEGIN:VCALENDAR
VERSION:2.0
PRODID:-//Library Market//iCal Export//EN
BEGIN:VEVENT
SUMMARY:Video Game Truck
UID:21871
DTSTAMP:20260424T165100Z
DTSTART:20260706T210000Z
DTEND:20260706T230000Z
LOCATION:307 Audubon St, Paradis, LA 70080, United States
ROOM: Outside
DESCRIPTION:Drop in for a turn in the gaming truck! Play your favorite fam
 ily friendly multi-player video games in a luxury, limo-style, air-conditi
 oned theater on wheels with NOLA Games on Wheels! 
URL:https://www.myscpl.org/event/video-game-truck-21871
END:VEVENT
END:VCALENDAR
