BEGIN:VCALENDAR
VERSION:2.0
PRODID:-//Library Market//iCal Export//EN
BEGIN:VEVENT
SUMMARY:Video Game Truck
UID:21872
DTSTAMP:20260424T192300Z
DTSTART:20260720T220000Z
DTEND:20260721T000000Z
LOCATION:590 Apple St, Norco, LA 70079, United States
ROOM: Outside
DESCRIPTION:Drop in for a turn in the gaming truck! Play your favorite fam
 ily friendly multi-player video games in a luxury, limo-style, air-conditi
 oned theater on wheels with NOLA Games on Wheels! 
URL:https://www.myscpl.org/event/video-game-truck-21872
END:VEVENT
END:VCALENDAR
