BEGIN:VCALENDAR
VERSION:2.0
PRODID:-//Library Market//iCal Export//EN
BEGIN:VEVENT
SUMMARY:Recycled Birdscapes with River Region Master Gardeners
UID:21958
DTSTAMP:20260424T192300Z
DTSTART:20260722T150000Z
DTEND:20260722T160000Z
LOCATION:East Regional Library, 160 West Campus Dr, Destrehan, LA 70047, U
 nited States
ROOM: Large Meeting Room
DESCRIPTION:Learn how to use recycled materials to bring more birds to you
 r family&#039;s yard with the River Region Master Gardeners. 
URL:https://www.myscpl.org/event/recycled-birdscapes-river-region-master-g
 ardeners-21958
END:VEVENT
END:VCALENDAR
